BEGIN:VCALENDAR
VERSION:2.0
PRODID:-//eventon.com NONSGML v1.0//EN
CALSCALE:GREGORIAN
METHOD:PUBLISH
BEGIN:VEVENT
UID:69ea8f2071483
DTSTAMP:20260423T212904Z
DTSTART:20221125
DTEND:20221126
LOCATION:Perimeter Mall 4400 Ashford Dunwoody Road Atlanta\,  GA 30346
SUMMARY:Donation with Purchase
DESCRIPTION:For every minimum purchase of $200 at participating Perimeter M
 all retailers\,  $20 will be donated to the Atlanta Community Food Bank thr
 ough Feeding America. Thank you to Perimeter Mall and Brookfield Properties
  for supporting hungry neighbors in our community. For terms and more infor
 mation\,  click the LEARN MORE link below.\nhttps://www.acfb.org/events/don
 ation-with-purchase/
URL:https://www.acfb.org/events/donation-with-purchase/
END:VEVENT
END:VCALENDAR