BEGIN:VCALENDAR
VERSION:2.0
PRODID:-//eventon.com NONSGML v1.0//EN
CALSCALE:GREGORIAN
METHOD:PUBLISH
BEGIN:VEVENT
UID:69e8f47239777
DTSTAMP:20260422T161650Z
DTSTART:20221112T230000Z
DTEND:20221113T030000Z
LOCATION:Motorcars of Atlanta 7865 Roswell Rd Atlanta\,  GA 30350
SUMMARY:680 The Fan 93.7FM Casino Night
DESCRIPTION:680 The Fan announces its Inaugural Casino Night\,  presented b
 y First Horizon Bank\,  at Motorcars of Atlanta in Sandy Springs\,  benefit
 ting the Atlanta Community Food Bank.&nbsp; The event will feature all the 
 Vegas standards including Texas hold ‘em\,  blackjack\,  craps tables\,  
 roulette\,  and slot machines with your shot at some[..]\nhttps://www.acfb.
 org/events/680-the-fan-93-7fm-casino-night/
URL:https://www.acfb.org/events/680-the-fan-93-7fm-casino-night/
END:VEVENT
END:VCALENDAR