BEGIN:VCALENDAR
VERSION:2.0
PRODID:-//eventon.com NONSGML v1.0//EN
CALSCALE:GREGORIAN
METHOD:PUBLISH
BEGIN:VEVENT
UID:69e8ab1f9534b
DTSTAMP:20260422T110359Z
DTSTART:20251207T230000Z
DTEND:20251208T030000Z
LOCATION:
SUMMARY:Holiday Divapalooza
DESCRIPTION:Celebrating some of Atlanta’s most talented artists across bl
 ues\,  funk\,  rock\,  pop\,  jazz\,  and cabaret. Featuring Deb Bowman\,  
 Karla Harris\,  Tia Rix\,  Nancy Gaddy\,  The Dianas\,  Chelsea Szegidewicz
 \,  Jess Goggans\,  and Cody Matlock. Proceeds benefit the Atlanta Communit
 y Food Bank. Click here for more info. Avon Theater 106 N. Avondale[..]\nht
 tps://www.acfb.org/events/holiday-divapalooza/
URL:https://www.acfb.org/events/holiday-divapalooza/
END:VEVENT
END:VCALENDAR